BEGIN:VCALENDAR
VERSION:2.0
METHOD:PUBLISH
PRODID:-//ActiveDataInc/WHENNOW//EN
BEGIN:VEVENT
ORGANIZER:mailto:gcorado@northampton.edu
DTSTART:20200213T163000
DTEND:20200218T010000
TIMESTAMP:20260420T101117
LOCATION:Wind Creek Event Center\, 77 Wind Creek Boulevard
SUMMARY:** Valentine's Day Special** 11th Annual Lehigh Valley Food 
 & Wine Festival
DESCRIPTION:For the full details of this event\, visit https://whennow.co
 m/event/-valentines-day-special-11th-annual-lehigh-valley-f
 ood--wine-festival.
CATEGORIES:
UID:5480c22796814227b64188e3d320f5cf
BEGIN:VALARM
TRIGGER:-PT15M
ACTION:DISPLAY
DESCRIPTION:** Valentine's Day Special** 11th Annual Lehigh Valley Food 
 & Wine Festival
END:VALARM
END:VEVENT
END:VCALENDAR
