BEGIN:VCALENDAR
VERSION:2.0
METHOD:PUBLISH
PRODID:-//ActiveDataInc/WHENNOW//EN
BEGIN:VEVENT
ORGANIZER:mailto:gaosm@evautoe.com
DTSTART:20191022T140000
DTEND:20191025T160000
TIMESTAMP:20260426T123200
LOCATION:New China International Exhibition Center (NCIEC)\, No. 88 Yu
 xiang Road\, Tianzhu Airport Industrial Zone\, Shunyi Distric
 t\, Beijing\, China
SUMMARY:2019 World Intelligent Connected Vehicles Conference (IEEVCh
 ina)
DESCRIPTION:For the full details of this event\, visit https://whennow.co
 m/event/2019-world-intelligent-connected-vehicles-conferenc
 e-ieevchina.
CATEGORIES:
UID:1150cc9cac284b93a77fed1f4a24369c
BEGIN:VALARM
TRIGGER:-PT15M
ACTION:DISPLAY
DESCRIPTION:2019 World Intelligent Connected Vehicles Conference (IEEVCh
 ina)
END:VALARM
END:VEVENT
END:VCALENDAR
