BEGIN:VCALENDAR
VERSION:2.0
METHOD:PUBLISH
PRODID:-//ActiveDataInc/WHENNOW//EN
BEGIN:VEVENT
ORGANIZER:mailto:catharine@thevast.org
DTSTART:20221109T090000
DTEND:20221109T143000
TIMESTAMP:20260424T094851
LOCATION:Barristers Club\, 1114 Walnut St
SUMMARY:2022 Human Trafficking Symposium
DESCRIPTION:For the full details of this event\, visit https://whennow.co
 m/event/2022-anti-human-trafficking-symposium.
CATEGORIES:
UID:0c4e871fe0ed429d89b7e4eb6be866fd
BEGIN:VALARM
TRIGGER:-PT15M
ACTION:DISPLAY
DESCRIPTION:2022 Human Trafficking Symposium
END:VALARM
END:VEVENT
END:VCALENDAR
