BEGIN:VCALENDAR
VERSION:2.0
METHOD:PUBLISH
PRODID:-//ActiveDataInc/WHENNOW//EN
BEGIN:VEVENT
ORGANIZER:mailto:afpeasternpa@gmail.com
DTSTART:20210825T083000
DTEND:20211027T170000
TIMESTAMP:20260425T071550
LOCATION:AFP Eastern PA Chapter\, PO Box 20842
SUMMARY:AFP Fundraising Passport Sponsorships
DESCRIPTION:For the full details of this event\, visit https://whennow.co
 m/event/afp-fundraising-passport-sponsorships.
CATEGORIES:
UID:82d6b0456d24415698122c5b5e76c0b1
BEGIN:VALARM
TRIGGER:-PT15M
ACTION:DISPLAY
DESCRIPTION:AFP Fundraising Passport Sponsorships
END:VALARM
END:VEVENT
END:VCALENDAR
