BEGIN:VCALENDAR
VERSION:2.0
METHOD:PUBLISH
PRODID:-//ActiveDataInc/WHENNOW//EN
BEGIN:VEVENT
ORGANIZER:mailto:stephen.williams@live.com.au
DTSTART:20190124T190000
DTEND:20190124T220000
TIMESTAMP:20260424T094324
LOCATION:Drexler's NYC\, 9 Avenue A\, New York\, NY 10009
SUMMARY:Animal Mask Drinks- African Wildlife Fundraiser in NYC
DESCRIPTION:For the full details of this event\, visit https://whennow.co
 m/event/animal-mask-drinks--african-wildlife-fundraiser-in-
 nyc.
CATEGORIES:
UID:68e3b30411a54917b07b6e0f4efa1038
BEGIN:VALARM
TRIGGER:-PT15M
ACTION:DISPLAY
DESCRIPTION:Animal Mask Drinks- African Wildlife Fundraiser in NYC
END:VALARM
END:VEVENT
END:VCALENDAR
