BEGIN:VCALENDAR
VERSION:2.0
METHOD:PUBLISH
PRODID:-//ActiveDataInc/WHENNOW//EN
BEGIN:VEVENT
ORGANIZER:mailto:jgh22@psu.edu
DTSTART:20170921T000000
DTEND:20171021T000000
TIMESTAMP:20260421T080948
LOCATION:Penn State Lehigh Valley
SUMMARY:Collective Impact Scholarship Fund
DESCRIPTION:For the full details of this event\, visit https://whennow.co
 m/event/collective-impact-scholarship-fund.
CATEGORIES:
UID:5611f813f2d049c99a57b051ce4f5ef8
BEGIN:VALARM
TRIGGER:-PT15M
ACTION:DISPLAY
DESCRIPTION:Collective Impact Scholarship Fund
END:VALARM
END:VEVENT
END:VCALENDAR
