BEGIN:VCALENDAR
VERSION:2.0
METHOD:PUBLISH
PRODID:-//ActiveDataInc/WHENNOW//EN
BEGIN:VEVENT
ORGANIZER:mailto:tyler.rothrock@gmail.com
DTSTART:20170402T180000
DTEND:20170402T203000
TIMESTAMP:20260419T090822
LOCATION:Bethlehem Ice House\, 56 River Street Bethlehem\, PA 18018
SUMMARY:Comedy Night for Eric Gubich
DESCRIPTION:For the full details of this event\, visit https://whennow.co
 m/event/comedy-night-for-eric-gubich.
CATEGORIES:
UID:d584132e55714407a856d04f547d1ed0
BEGIN:VALARM
TRIGGER:-PT15M
ACTION:DISPLAY
DESCRIPTION:Comedy Night for Eric Gubich
END:VALARM
END:VEVENT
END:VCALENDAR
