BEGIN:VCALENDAR
VERSION:2.0
METHOD:PUBLISH
PRODID:-//ActiveDataInc/WHENNOW//EN
BEGIN:VEVENT
ORGANIZER:mailto:catharine@thevast.org
DTSTART:20191106T073000
DTEND:20191106T090000
TIMESTAMP:20260421T124929
LOCATION:Laros Estate\, Home of Laura Bennett Shelton\, 2512 Center Str
 eet
SUMMARY:Community Awards Breakfast
DESCRIPTION:For the full details of this event\, visit https://whennow.co
 m/event/community-awards-breakfast.
CATEGORIES:
UID:be8d1c3eca544a93a98a43babf44b06e
BEGIN:VALARM
TRIGGER:-PT15M
ACTION:DISPLAY
DESCRIPTION:Community Awards Breakfast
END:VALARM
END:VEVENT
END:VCALENDAR
