BEGIN:VCALENDAR
VERSION:2.0
METHOD:PUBLISH
PRODID:-//ActiveDataInc/WHENNOW//EN
BEGIN:VEVENT
ORGANIZER:mailto:director@cccfoundpa.org
DTSTART:20230505T180000
DTEND:20230505T220000
TIMESTAMP:20260420T100921
LOCATION:Franklin Township Volunteer FIre Company\, 2440 Fairyland Roa
 d
SUMMARY:Friends of CCTI: Cinco de Mayo Hoedown
DESCRIPTION:For the full details of this event\, visit https://whennow.co
 m/event/friends-of-ccti-cinco-de-mayo-hoedown.
CATEGORIES:
UID:b470dcb018a4453fbd87e00203d284fb
BEGIN:VALARM
TRIGGER:-PT15M
ACTION:DISPLAY
DESCRIPTION:Friends of CCTI: Cinco de Mayo Hoedown
END:VALARM
END:VEVENT
END:VCALENDAR
