BEGIN:VCALENDAR
VERSION:2.0
METHOD:PUBLISH
PRODID:-//ActiveDataInc/WHENNOW//EN
BEGIN:VEVENT
ORGANIZER:mailto:vibrationalhigh@gmail.com
DTSTART:20240621T190000
DTEND:20240621T200000
TIMESTAMP:20260421T102238
LOCATION:New Visions Books & Gifts- Kingston Square Shopping Center\, 
 2594 Eastern Blvd
SUMMARY:Get started using tuning forks & sound therapy for healing\, 
 manifestation\, & psychic development
DESCRIPTION:For the full details of this event\, visit https://whennow.co
 m/event/get-started-using-tuning-forks--sound-therapy-for-h
 ealing-manifestation--psychic-development.
CATEGORIES:
UID:973e6c89d4b44a06939d3590d8dde66c
BEGIN:VALARM
TRIGGER:-PT15M
ACTION:DISPLAY
DESCRIPTION:Get started using tuning forks & sound therapy for healing\, 
 manifestation\, & psychic development
END:VALARM
END:VEVENT
END:VCALENDAR
