BEGIN:VCALENDAR
VERSION:2.0
METHOD:PUBLISH
PRODID:-//ActiveDataInc/WHENNOW//EN
BEGIN:VEVENT
ORGANIZER:mailto:vibrationalhigh@gmail.com
DTSTART:20200327T170000
DTEND:20200329T170000
TIMESTAMP:20260420T022159
LOCATION:NJ Convention & Expo Center\, 97 Sunfield Ave
SUMMARY:Heart of Oneness Holistic Expo
DESCRIPTION:For the full details of this event\, visit https://whennow.co
 m/event/heart-of-oneness-holistic-expo.
CATEGORIES:
UID:d375cb46a1a142db88ff2fdaad2d241e
BEGIN:VALARM
TRIGGER:-PT15M
ACTION:DISPLAY
DESCRIPTION:Heart of Oneness Holistic Expo
END:VALARM
END:VEVENT
END:VCALENDAR
