BEGIN:VCALENDAR
VERSION:2.0
METHOD:PUBLISH
PRODID:-//ActiveDataInc/WHENNOW//EN
BEGIN:VEVENT
ORGANIZER:mailto:vpeters@psu.edu
DTSTART:20180214T113000
DTEND:20180214T133000
TIMESTAMP:20260423T083953
LOCATION:Penn State Lehigh Valley\, 2809 Saucon Valley Road
SUMMARY:LaunchBox Ladies:  From Passion to Profit
DESCRIPTION:For the full details of this event\, visit https://whennow.co
 m/event/launchbox-ladies--from-passion-to-profit-2.
CATEGORIES:
UID:ba6392e176f8434a854a2b1065ca8869
BEGIN:VALARM
TRIGGER:-PT15M
ACTION:DISPLAY
DESCRIPTION:LaunchBox Ladies:  From Passion to Profit
END:VALARM
END:VEVENT
END:VCALENDAR
