BEGIN:VCALENDAR
VERSION:2.0
METHOD:PUBLISH
PRODID:-//ActiveDataInc/WHENNOW//EN
BEGIN:VEVENT
ORGANIZER:mailto:vpeters@psu.edu
DTSTART:20171115T113000
DTEND:20171115T140000
TIMESTAMP:20260424T093956
LOCATION:Penn State Lehigh Valley\, 2809 Saucon Valley Road
SUMMARY:LaunchBox Ladies:  From Passion to Profit
DESCRIPTION:For the full details of this event\, visit https://whennow.co
 m/event/launchbox-ladies--from-passion-to-profit.
CATEGORIES:
UID:04e1a233c0d2428da457e0cabf28c376
BEGIN:VALARM
TRIGGER:-PT15M
ACTION:DISPLAY
DESCRIPTION:LaunchBox Ladies:  From Passion to Profit
END:VALARM
END:VEVENT
END:VCALENDAR
