BEGIN:VCALENDAR
VERSION:2.0
METHOD:PUBLISH
PRODID:-//ActiveDataInc/WHENNOW//EN
BEGIN:VEVENT
ORGANIZER:mailto:studentlife@northampton.edu
DTSTART:20241113T083000
DTEND:20241113T140000
TIMESTAMP:20260421T071613
LOCATION:Promise Neighborhoods\, 333 W Union Street
SUMMARY:Leadership Day of Service with Promise Neighborhoods (Studen
 t Leadership Summit Day 3)
DESCRIPTION:For the full details of this event\, visit https://whennow.co
 m/event/leadership-day-of-service-with-promise-neighborhood
 s-student-leadership-summit-day-3.
CATEGORIES:
UID:1ecf985adcce4c44a82e8b48e5f8d4cb
BEGIN:VALARM
TRIGGER:-PT15M
ACTION:DISPLAY
DESCRIPTION:Leadership Day of Service with Promise Neighborhoods (Studen
 t Leadership Summit Day 3)
END:VALARM
END:VEVENT
END:VCALENDAR
