BEGIN:VCALENDAR
VERSION:2.0
METHOD:PUBLISH
PRODID:-//ActiveDataInc/WHENNOW//EN
BEGIN:VEVENT
ORGANIZER:mailto:Outreach@lvatweek.com
DTSTART:20231106T180000
DTEND:20231106T200000
TIMESTAMP:20260420T083904
LOCATION:The Barn\, 2132 S 12th Street Suite 203
SUMMARY:Lehigh Valley Anti-Trafficking Week Candlelight Vigil
DESCRIPTION:For the full details of this event\, visit https://whennow.co
 m/event/lehigh-valley-anti-trafficking-week-candlelight-vig
 il.
CATEGORIES:
UID:cbebeaeef03144e58fdb7e568831b6b0
BEGIN:VALARM
TRIGGER:-PT15M
ACTION:DISPLAY
DESCRIPTION:Lehigh Valley Anti-Trafficking Week Candlelight Vigil
END:VALARM
END:VEVENT
END:VCALENDAR
