BEGIN:VCALENDAR
VERSION:2.0
METHOD:PUBLISH
PRODID:-//ActiveDataInc/WHENNOW//EN
BEGIN:VEVENT
ORGANIZER:mailto:bmessina@northampton.edu
DTSTART:20221111T180000
DTEND:20221111T220000
TIMESTAMP:20260423T113928
LOCATION:The Steel Club\, 700 Linden Avenue
SUMMARY:LATINO LEADERSHIP ALLIANCE NUESTRO FUTURO GALA
DESCRIPTION:For the full details of this event\, visit https://whennow.co
 m/event/lla-scholarship-fundraising-gala-1.
CATEGORIES:
UID:805771f136a34e1db3ce82cbd1467f47
BEGIN:VALARM
TRIGGER:-PT15M
ACTION:DISPLAY
DESCRIPTION:LATINO LEADERSHIP ALLIANCE NUESTRO FUTURO GALA
END:VALARM
END:VEVENT
END:VCALENDAR
