BEGIN:VCALENDAR
VERSION:2.0
METHOD:PUBLISH
PRODID:-//ActiveDataInc/WHENNOW//EN
BEGIN:VEVENT
ORGANIZER:mailto:vibrationalhigh@gmail.com
DTSTART:20191110T160000
DTEND:20191110T180000
TIMESTAMP:20260424T104600
LOCATION:Soulful Journeys\, 131 S Main St
SUMMARY:Messages From The Masters
DESCRIPTION:For the full details of this event\, visit https://whennow.co
 m/event/messages-from-the-masters-1.
CATEGORIES:
UID:8dae40f141bd4c5fbc74f778e3530f86
BEGIN:VALARM
TRIGGER:-PT15M
ACTION:DISPLAY
DESCRIPTION:Messages From The Masters
END:VALARM
END:VEVENT
END:VCALENDAR
