BEGIN:VCALENDAR
VERSION:2.0
METHOD:PUBLISH
PRODID:-//ActiveDataInc/WHENNOW//EN
BEGIN:VEVENT
ORGANIZER:mailto:musicoffice@stjames-cathedral.org
DTSTART:20211231T230000
DTEND:20220101T003000
TIMESTAMP:20260420T083903
LOCATION:St. James Cathedral\, 804 9th Avenue
SUMMARY:POSTPONED TO FEB. 5! New Year's Eve Gala Concert: Music by V
 ivaldi & Corelli
DESCRIPTION:For the full details of this event\, visit https://whennow.co
 m/event/new-years-eve-gala-concert-music-by-vivaldi--corell
 i.
CATEGORIES:
UID:1ba5cc5d0f4f489ca4c7a712d6c773d9
BEGIN:VALARM
TRIGGER:-PT15M
ACTION:DISPLAY
DESCRIPTION:POSTPONED TO FEB. 5! New Year's Eve Gala Concert: Music by V
 ivaldi & Corelli
END:VALARM
END:VEVENT
END:VCALENDAR
