BEGIN:VCALENDAR
VERSION:2.0
METHOD:PUBLISH
PRODID:-//ActiveDataInc/WHENNOW//EN
BEGIN:VEVENT
ORGANIZER:mailto:jessie@equi-librium.org
DTSTART:20260329T100000
DTEND:20260329T140000
TIMESTAMP:20260421T082148
LOCATION:Equi-librium\, 524 Fehr Road
SUMMARY:Pony Plop Bingo
DESCRIPTION:For the full details of this event\, visit https://whennow.co
 m/event/pony-plop-bingo-1.
CATEGORIES:
UID:a2a956429180492bb5b3bc3cce37397e
BEGIN:VALARM
TRIGGER:-PT15M
ACTION:DISPLAY
DESCRIPTION:Pony Plop Bingo
END:VALARM
END:VEVENT
END:VCALENDAR
