BEGIN:VCALENDAR
VERSION:2.0
METHOD:PUBLISH
PRODID:-//ActiveDataInc/WHENNOW//EN
BEGIN:VEVENT
ORGANIZER:mailto:dhirana.bharatnatyam@gmail.com
DTSTART:20241102T170000
DTEND:20241102T190000
TIMESTAMP:20260424T094357
LOCATION:BWHS Performing Arts Center\, 1351 Gamble Rd
SUMMARY:Pradarshana 2024
DESCRIPTION:For the full details of this event\, visit https://whennow.co
 m/event/pradarshana-2024.
CATEGORIES:
UID:4a7c7570a7b040fba214e83e4a5319d7
BEGIN:VALARM
TRIGGER:-PT15M
ACTION:DISPLAY
DESCRIPTION:Pradarshana 2024
END:VALARM
END:VEVENT
END:VCALENDAR
