BEGIN:VCALENDAR
VERSION:2.0
METHOD:PUBLISH
PRODID:-//ActiveDataInc/WHENNOW//EN
BEGIN:VEVENT
ORGANIZER:mailto:justinfroebuck@gmail.com
DTSTART:20191104T173000
DTEND:20191104T190000
TIMESTAMP:20260423T023920
LOCATION:New Holland Brewing Co.\, 66 E. 8th Street
SUMMARY:Roebuck for Clerk/Register 2020 Campaign Kickoff
DESCRIPTION:For the full details of this event\, visit https://whennow.co
 m/event/roebuck-for-clerkregister-fall-event.
CATEGORIES:
UID:c0bb53edb0f043a4af0ed2a411ccdd1f
BEGIN:VALARM
TRIGGER:-PT15M
ACTION:DISPLAY
DESCRIPTION:Roebuck for Clerk/Register 2020 Campaign Kickoff
END:VALARM
END:VEVENT
END:VCALENDAR
