BEGIN:VCALENDAR
VERSION:2.0
METHOD:PUBLISH
PRODID:-//ActiveDataInc/WHENNOW//EN
BEGIN:VEVENT
ORGANIZER:mailto:hollykim04@gmail.com
DTSTART:20180603T060000
DTEND:20180603T120000
TIMESTAMP:20260421T093745
LOCATION:Anacostia Boathouse\, 1201 M Street SE Washington\, DC
SUMMARY:Stonewall Regatta
DESCRIPTION:For the full details of this event\, visit https://whennow.co
 m/event/stonewall-regatta.
CATEGORIES:
UID:a6b1b86eddb2450fba0c39c493a9e804
BEGIN:VALARM
TRIGGER:-PT15M
ACTION:DISPLAY
DESCRIPTION:Stonewall Regatta
END:VALARM
END:VEVENT
END:VCALENDAR
