BEGIN:VCALENDAR
VERSION:2.0
METHOD:PUBLISH
PRODID:-//ActiveDataInc/WHENNOW//EN
BEGIN:VEVENT
ORGANIZER:mailto:sree757@gmail.com
DTSTART:20240921T080000
DTEND:20240921T180000
TIMESTAMP:20260420T035525
LOCATION:Bentonville High school\, 1801 SE J St
SUMMARY:AAVANI 2K24
DESCRIPTION:For the full details of this event\, visit https://whennow.co
 m/event/test-17.
CATEGORIES:
UID:da0101de921e4583924a1adc5182f889
BEGIN:VALARM
TRIGGER:-PT15M
ACTION:DISPLAY
DESCRIPTION:AAVANI 2K24
END:VALARM
END:VEVENT
END:VCALENDAR
