BEGIN:VCALENDAR
VERSION:2.0
METHOD:PUBLISH
PRODID:-//ActiveDataInc/WHENNOW//EN
BEGIN:VEVENT
ORGANIZER:mailto:afpeasternpa@gmail.com
DTSTART:20190925T170000
DTEND:20190925T190000
TIMESTAMP:20260424T052008
LOCATION:Historic Hotel Bethlehem\, 437 Main Street
SUMMARY:Unraveling Philanthropy: A Talk Back Session with Simone Joy
 aux
DESCRIPTION:For the full details of this event\, visit https://whennow.co
 m/event/unraveling-philanthropy-a-talk-back-session-with-si
 mone-joyaux.
CATEGORIES:
UID:304857596b544df7867504587b1177c9
BEGIN:VALARM
TRIGGER:-PT15M
ACTION:DISPLAY
DESCRIPTION:Unraveling Philanthropy: A Talk Back Session with Simone Joy
 aux
END:VALARM
END:VEVENT
END:VCALENDAR
