BEGIN:VCALENDAR
VERSION:2.0
METHOD:PUBLISH
PRODID:-//ActiveDataInc/WHENNOW//EN
BEGIN:VEVENT
ORGANIZER:mailto:wmuh@muhlenberg.edu
DTSTART:20250501T190000
DTEND:20250501T220000
TIMESTAMP:20260421T083043
LOCATION:Coplay Saengerbund\, 205 South 5th Street
SUMMARY:WMUH Presents The Alex Meixner Band
DESCRIPTION:For the full details of this event\, visit https://whennow.co
 m/event/wmuh-presents-the-alex-meixner-band-2.
CATEGORIES:
UID:032524d1325e48c8aa026be958358011
BEGIN:VALARM
TRIGGER:-PT15M
ACTION:DISPLAY
DESCRIPTION:WMUH Presents The Alex Meixner Band
END:VALARM
END:VEVENT
END:VCALENDAR
